BEGIN:VCALENDAR
VERSION:2.0
PRODID:-//Plone.org//NONSGML plone.app.event//EN
X-WR-TIMEZONE:America/Maceio
BEGIN:VEVENT
SUMMARY:Escola Técnica de Artes promove encontro de cordas
DTSTART;TZID=America/Maceio:20181016T170000
DTEND;TZID=America/Maceio:20181017T190000
DTSTAMP:20260420T121432Z
UID:1256a770d2eb4f44a8c21f5fcc9e1f24@principal.ufal.br
CONTACT:https://ufal.br/ufal/noticias/2018/10/escola-tecnica-de-artes-prom
 ove-encontro-de-cordas
CREATED:20181016T200240Z
DESCRIPTION:O 4º Encontro de Cordas\, promovido pela Escola Técnica de A
 rtes (ETA) da Ufal\, começou na segunda (15) \n e acontece até amanhã c
 om a participação de convidados especiais: os professores Alessandro Bor
 gomanero [violino]\, Paulo França [viola] e Fábio Presgrave [violoncello
 ]\, que vão participar de masterclasses e concertos. O evento\,  totalmen
 te gratuito\, está acontecendo no Espaço Cultural da Ufal e\, no último
  dia\, o concerto de encerramento será no Complexo Cultural Teatro Deodor
 o\, às 19h\, também gratuito.
LAST-MODIFIED:20181016T200247Z
URL:https://ufal.br/ufal/extensao/cultura/2018/escola-tecnica-de-artes-pro
 move-encontro-de-cordas
END:VEVENT
BEGIN:VTIMEZONE
TZID:America/Maceio
X-LIC-LOCATION:America/Maceio
BEGIN:STANDARD
DTSTART:20020216T230000
TZNAME:-03
TZOFFSETFROM:-0200
TZOFFSETTO:-0300
END:STANDARD
END:VTIMEZONE
END:VCALENDAR
