BEGIN:VCALENDAR
VERSION:2.0
PRODID:-//Plone.org//NONSGML plone.app.event//EN
X-WR-TIMEZONE:America/Maceio
BEGIN:VEVENT
SUMMARY:Escola Técnica de Artes promove 3ª edição do Moda e Imagem
DTSTART;TZID=America/Maceio:20181025T080000
DTEND;TZID=America/Maceio:20181026T170000
DTSTAMP:20260420T074325Z
UID:d1eb8795e39d4ba7a5d2935db94f6a7e@principal.ufal.br
CONTACT:https://ufal.br/ufal/noticias/2018/10/escola-tecnica-de-artes-prom
 ove-3a-edicao-do-moda-e-imagem
CREATED:20181019T202528Z
DESCRIPTION:Estudantes e profissionais da área de moda\, design\, artes\,
  marketing\, publicidade\, jornalismo e fotografia terão a chance de part
 icipar da 3ª edição do Moda e Imagem\, que acontece dias 25 e 26 de out
 ubro\, na sede do Instituto do Patrimônio Histórico e Artístico Naciona
 l (Iphan) em Maceió. O evento\, promovido pela Escola Técnica de Artes (
 ETA) da Universidade Federal de Alagoas\, terá uma programação de reche
 ada de atividades com a participação de pessoas que circulam no mercado 
 profissional e no meio acadêmico.
LAST-MODIFIED:20181019T202547Z
URL:https://ufal.br/ufal/extensao/cultura/2018/escola-tecnica-de-artes-pro
 move-3a-edicao-do-moda-e-imagem
END:VEVENT
BEGIN:VTIMEZONE
TZID:America/Maceio
X-LIC-LOCATION:America/Maceio
BEGIN:STANDARD
DTSTART:20020216T230000
TZNAME:-03
TZOFFSETFROM:-0200
TZOFFSETTO:-0300
END:STANDARD
END:VTIMEZONE
END:VCALENDAR
