BEGIN:VCALENDAR
VERSION:2.0
PRODID:-//Plone.org//NONSGML plone.app.event//EN
X-WR-TIMEZONE:America/Maceio
BEGIN:VEVENT
SUMMARY:Cursos de extensão de pandeiro\, leitura rítmica e 40 rudimentos
  para caixa e atabaques e congas
DTSTART;TZID=America/Maceio:20181004T130000
DTEND;TZID=America/Maceio:20181004T140000
DTSTAMP:20260420T040411Z
UID:99004754285c4ceb8f67e79268989fb4@principal.ufal.br
CONTACT:https://ufal.br/ufal/noticias/2018/10/nucleo-de-percussao-da-ufal-
 promove-cursos-de-extensao
CREATED:20181003T191825Z
DESCRIPTION:O Núcleo de Percussão está oferecendo três cursos gratuito
 s. São 31 vagas destinadas a jovens que já concluíram o ensino médio o
 u ainda estão cursando. A seleção será na próxima quinta-feira\, dia 
 4 de outubro\, às 13h\, na sala do NUP\, no Espaço Cultural.
LAST-MODIFIED:20181003T191832Z
URL:https://ufal.br/ufal/extensao/cultura/2018/cursos-de-extensao-de-pande
 iro-leitura-ritmica-e-40-rudimentos-para-caixa-e-atabaques-e-congas
END:VEVENT
BEGIN:VTIMEZONE
TZID:America/Maceio
X-LIC-LOCATION:America/Maceio
BEGIN:STANDARD
DTSTART:20020216T230000
TZNAME:-03
TZOFFSETFROM:-0200
TZOFFSETTO:-0300
END:STANDARD
END:VTIMEZONE
END:VCALENDAR
