BEGIN:VCALENDAR
VERSION:2.0
PRODID:-//Plone.org//NONSGML plone.app.event//EN
X-WR-TIMEZONE:America/Maceio
BEGIN:VEVENT
SUMMARY:Curso de Teatro promove mostra de trabalhos acadêmicos
DTSTART;TZID=America/Maceio:20181010T160000
DTEND;TZID=America/Maceio:20181018T170000
DTSTAMP:20260420T015131Z
UID:48b347bc38234e359074ac54b7fa3815@principal.ufal.br
CONTACT:https://ufal.br/ufal/noticias/2018/10/curso-de-teatro-promove-most
 ra-de-trabalhos-academicos
CREATED:20181010T191203Z
DESCRIPTION:O curso de licenciatura em Teatro promove mais uma edição da
  Mostra de Trabalhos Acadêmicos (MTACT). Será nos dias 11 e 18 de outubr
 o\, no Espaço Cultural\, na Praça Visconde de Sinimbu\, à tarde\, com a
 presentações de trabalhos artísticos e acadêmicos\, produzidos nas dis
 ciplinas durante o período 2018.1. Além da mostra\, vários trabalhos se
 rão promovidos ao logo desta e da próxima semana.
LAST-MODIFIED:20181010T191442Z
URL:https://ufal.br/ufal/extensao/cultura/2018/curso-de-teatro-promove-mos
 tra-de-trabalhos-academicos
END:VEVENT
BEGIN:VTIMEZONE
TZID:America/Maceio
X-LIC-LOCATION:America/Maceio
BEGIN:STANDARD
DTSTART:20020216T230000
TZNAME:-03
TZOFFSETFROM:-0200
TZOFFSETTO:-0300
END:STANDARD
END:VTIMEZONE
END:VCALENDAR
