BEGIN:VCALENDAR
VERSION:2.0
PRODID:-//Plone.org//NONSGML plone.app.event//EN
X-WR-TIMEZONE:America/Maceio
BEGIN:VEVENT
SUMMARY:Corufal e Orquestra Sinfônica se apresentam no Teatro Deodoro
DTSTART;TZID=America/Maceio:20180726T200000
DTEND;TZID=America/Maceio:20180726T210000
DTSTAMP:20260419T221515Z
UID:708bbc03738747279a561c9a3bfaaf0d@principal.ufal.br
CONTACT:https://ufal.br/ufal/noticias/2018/7/corufal-e-orquestra-sinfonica
 -se-apresentam-no-teatro-deodoro
CREATED:20180730T170809Z
DESCRIPTION:O sucesso de público do último Quinta Sinfônica vai levar d
 e volta ao palco do Teatro Deodoro a Orquestra Sinfônica da Universidade 
 Federal de Alagoas\, apresentando grandes clássicos da ópera mundial\, c
 om Aberturas e Árias de Mozart\, Bizet\, Puccini e Donizetti\, interpreta
 das  por seis solistas. O convidado especial será o Corufal que abre a no
 ite da quinta-feira\, 26 de julho\, às 20h\, com entrada franca.
LAST-MODIFIED:20180730T170819Z
URL:https://ufal.br/ufal/extensao/cultura/2018/corufal-e-orquestra-sinfoni
 ca-se-apresentam-no-teatro-deodoro
END:VEVENT
BEGIN:VTIMEZONE
TZID:America/Maceio
X-LIC-LOCATION:America/Maceio
BEGIN:STANDARD
DTSTART:20020216T230000
TZNAME:-03
TZOFFSETFROM:-0200
TZOFFSETTO:-0300
END:STANDARD
END:VTIMEZONE
END:VCALENDAR
