BEGIN:VCALENDAR
VERSION:2.0
PRODID:-//Plone.org//NONSGML plone.app.event//EN
X-WR-TIMEZONE:America/Maceio
BEGIN:VEVENT
SUMMARY:Corufal e Coro Universitário serão atração no Nordeste Cantat
DTSTART;TZID=America/Maceio:20180927T190000
DTEND;TZID=America/Maceio:20180928T200000
DTSTAMP:20260420T181934Z
UID:487a222910f9438bacdd7e1c455d02ae@principal.ufal.br
CREATED:20180924T223411Z
DESCRIPTION:O Corufal e o Coro Universitário da Universidade Federal de A
 lagoas estão na programação do 19º Festival Nordeste Cantat Internacio
 nal\, que acontece em Maceió\, no Teatro Deodoro\, de 27 a 30 de setembro
 . O evento tem como tema "O Nordeste canta os 130 anos da abolição do es
 cravos" e é promovido pela Federação Alagoana de Coros. \nSerão 41 cor
 os se apresentando durante os quatro dias\, sendo duas atrações internac
 ionais o coro africano Orfeão da Praia\, de Cabo Verde\, e o alemão Deut
 sch-Brasilianischer Chor. Na quinta (27)\, e na sexta (28)\, a programaç
 ão começa às 19h. No sábado (29) e no domingo (30)\, as apresentaçõe
 s são a partir das 16h. \nO Corufal se apresenta na quinta (27) e o Coro 
 Universitário\, na sexta (28).
LAST-MODIFIED:20180924T223420Z
URL:https://ufal.br/ufal/extensao/cultura/2018/corufal-e-coro-universitari
 o-serao-atracao-no-nordeste-cantat
END:VEVENT
BEGIN:VTIMEZONE
TZID:America/Maceio
X-LIC-LOCATION:America/Maceio
BEGIN:STANDARD
DTSTART:20020216T230000
TZNAME:-03
TZOFFSETFROM:-0200
TZOFFSETTO:-0300
END:STANDARD
END:VTIMEZONE
END:VCALENDAR
