BEGIN:VCALENDAR
VERSION:2.0
PRODID:-//Plone.org//NONSGML plone.app.event//EN
X-WR-TIMEZONE:America/Maceio
BEGIN:VEVENT
SUMMARY:Corpo Cênico da Ufal estreia novo espetáculo
DTSTART;TZID=America/Maceio:20181010T173000
DTEND;TZID=America/Maceio:20181010T183000
DTSTAMP:20260420T165059Z
UID:6260534f142043ee99f4180501b88b87@principal.ufal.br
CONTACT:https://ufal.br/ufal/noticias/2018/10/corpo-cenico-da-ufal-estreia
 -novo-espetaculo
CREATED:20181008T192821Z
DESCRIPTION:A nova produção do Corpo Cênico da Ufal estreia na próxima
  quarta-feira\, dia 10 de outubro. "O amor à pátria"\, inspirada nas His
 tórias do Sr. Keuner\, livro e personagem criados pelo dramaturgo alemão
  Bertolt Brecht\, será apresentada na Sala Preta\, no Espaço Cultural da
  Ufal\, na Praça Visconde de Sinimbu\, às 17h30. Com duração de 30 min
 utos\, o espetáculo é livre e a entrada é gratuita.
LAST-MODIFIED:20181008T192828Z
URL:https://ufal.br/ufal/extensao/cultura/2018/corpo-cenico-da-ufal-estrei
 a-novo-espetaculo
END:VEVENT
BEGIN:VTIMEZONE
TZID:America/Maceio
X-LIC-LOCATION:America/Maceio
BEGIN:STANDARD
DTSTART:20020216T230000
TZNAME:-03
TZOFFSETFROM:-0200
TZOFFSETTO:-0300
END:STANDARD
END:VTIMEZONE
END:VCALENDAR
