BEGIN:VCALENDAR
VERSION:2.0
PRODID:-//Plone.org//NONSGML plone.app.event//EN
X-WR-TIMEZONE:America/Maceio
BEGIN:VEVENT
SUMMARY:Coro da África fará visita ao Corufal nesta terça
DTSTART;TZID=America/Maceio:20180925T150000
DTEND;TZID=America/Maceio:20180925T160000
DTSTAMP:20260420T165402Z
UID:54525811b1ac4594aa2e9d87d5c8c451@principal.ufal.br
CREATED:20180924T223636Z
DESCRIPTION:O Corufal será anfitrião do coro Orfeão da Praia\, de Cabo 
 Verde\, nesta terça-feira (25). O grupo africano visitará o Espaço Cult
 ural\, na Praça Visconde de Sinimbu\, às 15h\, e vai cantar junto com o 
 grupo da Ufal. Quem quiser\, pode assistir e prestigiar o encontro dos doi
 s.
LAST-MODIFIED:20180924T223642Z
URL:https://ufal.br/ufal/extensao/cultura/2018/coro-da-africa-fara-visita-
 ao-corufal-nesta-terca
END:VEVENT
BEGIN:VTIMEZONE
TZID:America/Maceio
X-LIC-LOCATION:America/Maceio
BEGIN:STANDARD
DTSTART:20020216T230000
TZNAME:-03
TZOFFSETFROM:-0200
TZOFFSETTO:-0300
END:STANDARD
END:VTIMEZONE
END:VCALENDAR
