BEGIN:VCALENDAR
VERSION:2.0
PRODID:-//Plone.org//NONSGML plone.app.event//EN
X-WR-TIMEZONE:America/Maceio
BEGIN:VEVENT
SUMMARY:Conversa de Coxia terá os atores Homero Cavalcante e José Márci
 o Passos
DTSTART;TZID=America/Maceio:20181011T160000
DTEND;TZID=America/Maceio:20181011T170000
DTSTAMP:20260420T050607Z
UID:a0843fc85905436a83b0a2d0f0ab4bac@principal.ufal.br
CREATED:20181008T203853Z
DESCRIPTION:A próxima edição do Conversa de Coxia será dia 11 de outub
 ro\, às 16h\, na Sala Preta do Espaço Cultural da Ufal\, e terá os ator
 es Homero Cavalcante e José Márcio Passos como convidados. Os dois serã
 o entrevistados e vão falar sobre suas experiências no teatro. O projeto
  é aberto à comunidade acadêmica e ao público em geral\, mas quem quis
 er participar e receber certificado pode se inscrever gratuitamente no loc
 al\, antes do evento.\n\nA iniciativa é do Núcleo de Estudos e Pesquisas
  das Expressões Dramáticas (Neped)\, do curso de licenciatura em Teatro\
 , coordenado pelos professores Otávio Cabral e Ana Flávia Ferraz.
LAST-MODIFIED:20181008T204128Z
URL:https://ufal.br/ufal/extensao/cultura/2018/conversa-de-coxia-tera-os-a
 tores-homero-cavalcante-e-jose-marcio-passos
END:VEVENT
BEGIN:VTIMEZONE
TZID:America/Maceio
X-LIC-LOCATION:America/Maceio
BEGIN:STANDARD
DTSTART:20020216T230000
TZNAME:-03
TZOFFSETFROM:-0200
TZOFFSETTO:-0300
END:STANDARD
END:VTIMEZONE
END:VCALENDAR
