BEGIN:VCALENDAR
VERSION:2.0
PRODID:-//Plone.org//NONSGML plone.app.event//EN
X-WR-TIMEZONE:America/Maceio
BEGIN:VEVENT
SUMMARY:Concerto de percussão nesta sexta-feira
DTSTART;TZID=America/Maceio:20180803T150000
DTEND;TZID=America/Maceio:20180803T160000
DTSTAMP:20260420T023327Z
UID:5f61efed16574438ad0a7aa0456744b2@principal.ufal.br
CONTACT:Augusto Moralez\, 3214-1614
CREATED:20180801T174615Z
DESCRIPTION:Na próxima sexta-feira\, dia 3 de agosto\, teremos concerto d
 e percussão\, a partir das 15h\, no Espaço Cultural da Ufal\, na Praça 
 Visconde de Sinimbu. O evento é uma promoção da Escola Técnica de Arte
 s e as atrações são o Grupo Percufal e Anderson Mello. A entrada é fra
 nca! Não dá pra perder\, né? É só chegar e curtir! Mais informações
  pelo 3214-1614
LAST-MODIFIED:20180801T175250Z
URL:https://ufal.br/ufal/extensao/cultura/2018/concerto-de-percussao-nesta
 -sexta-feira
END:VEVENT
BEGIN:VTIMEZONE
TZID:America/Maceio
X-LIC-LOCATION:America/Maceio
BEGIN:STANDARD
DTSTART:20020216T230000
TZNAME:-03
TZOFFSETFROM:-0200
TZOFFSETTO:-0300
END:STANDARD
END:VTIMEZONE
END:VCALENDAR
