BEGIN:VCALENDAR
VERSION:2.0
PRODID:-//Plone.org//NONSGML plone.app.event//EN
X-WR-TIMEZONE:America/Maceio
BEGIN:VEVENT
SUMMARY:Cineclube Théo exibe “Monstro que nada” e “Bumba meu Jaragu
 á”
DTSTART;TZID=America/Maceio:20180731T140000
DTEND;TZID=America/Maceio:20180731T150000
DTSTAMP:20260420T105018Z
UID:8b6e0974e8b84595a6d2733b68f2dcdc@principal.ufal.br
CONTACT:https://ufal.br/ufal/noticias/2018/7/cineclube-theo-exibe-201cmons
 tro-que-nada201d-e-201cbumba-meu-jaragua201d
CREATED:20180730T170428Z
DESCRIPTION:Nesta terça-feira (31)\, às 14h\, vai acontecer mais uma edi
 ção do Cine Clube Théo. Dessa vez\, os filmes exibidos serão "Monstro 
 que nada"\, com a temática da poluição ambiental\, mostrando a destrui
 ção do Riacho Salgadinho e "Bumba meu Jaraguá"\, que dialoga sobre o ab
 andono e a falta de significado do bairro de Jaraguá para a população m
 aceioense. A sessão será no auditório do Museu Théo Brandão.
LAST-MODIFIED:20180730T170437Z
LOCATION:Museu Théo Brandão
URL:https://ufal.br/ufal/extensao/cultura/2018/cineclube-theo-exibe-201cmo
 nstro-que-nada201d-e-201cbumba-meu-jaragua201d
END:VEVENT
BEGIN:VTIMEZONE
TZID:America/Maceio
X-LIC-LOCATION:America/Maceio
BEGIN:STANDARD
DTSTART:20020216T230000
TZNAME:-03
TZOFFSETFROM:-0200
TZOFFSETTO:-0300
END:STANDARD
END:VTIMEZONE
END:VCALENDAR
