BEGIN:VCALENDAR
VERSION:2.0
PRODID:-//Plone.org//NONSGML plone.app.event//EN
X-WR-TIMEZONE:America/Maceio
BEGIN:VEVENT
SUMMARY:Cine Théo apresenta Guerreiros
DTSTART;TZID=America/Maceio:20180830T140000
DTEND;TZID=America/Maceio:20180830T150000
DTSTAMP:20260420T020829Z
UID:e0524caba15544d3bf805f886cfc13be@principal.ufal.br
CREATED:20180828T202439Z
DESCRIPTION:Na próxima quinta-feira\, 30 de agosto\, temos Cine Théo\, n
 o Museu Théo Brandão\, com o documentário Guerreiros\, um filme de Arle
 ne de Castro com o Guerreiro Campeão do Trenado. Será às 14h.  Após a 
 exibição\, teremos debate com a participação de Iraci de Melo e a prof
 essora do Instituto de Ciências Sociais da Ufal\, Rachel Rocha.
LAST-MODIFIED:20180828T202445Z
URL:https://ufal.br/ufal/extensao/cultura/2018/cine-theo-apresenta-guerrei
 ros
END:VEVENT
BEGIN:VTIMEZONE
TZID:America/Maceio
X-LIC-LOCATION:America/Maceio
BEGIN:STANDARD
DTSTART:20020216T230000
TZNAME:-03
TZOFFSETFROM:-0200
TZOFFSETTO:-0300
END:STANDARD
END:VTIMEZONE
END:VCALENDAR
