BEGIN:VCALENDAR
VERSION:2.0
PRODID:-//Plone.org//NONSGML plone.app.event//EN
X-WR-TIMEZONE:America/Maceio
BEGIN:VEVENT
SUMMARY:Camerata Acadêmica fará concerto em Fernando de Noronha
DTSTART;TZID=America/Maceio:20180616T190000
DTEND;TZID=America/Maceio:20180616T200000
DTSTAMP:20260420T165659Z
UID:ae000a85609442fba46802d394175219@principal.ufal.br
CONTACT:Lílian Pereira\, professora da Escola Técnica de Artes da Ufal\,
  http://biapo.com.br/site/comeca-em-fernando-de-noronha-o-festival-musica-
 do-forte/
CREATED:20180614T203629Z
DESCRIPTION:No próximo sábado\, dia 16\, às 19h\, a Camerata Acadêmica
  da Escola Técnica de Artes da Ufal vai se apresentar em Fernando de Noro
 nha\, no 1º Festival de Música no Forte\, que acontece na Fortaleza Noss
 a Senhora dos Remédios\, que está sendo restaurada e abriga o evento.
LAST-MODIFIED:20180614T222305Z
LOCATION:Fortaleza Nossa Senhora dos Remédios - Fernando de Noronha-PE
URL:https://ufal.br/ufal/extensao/cultura/2018/camerata-academica-fara-con
 certo-em-fernando-de-noronha
END:VEVENT
BEGIN:VTIMEZONE
TZID:America/Maceio
X-LIC-LOCATION:America/Maceio
BEGIN:STANDARD
DTSTART:20020216T230000
TZNAME:-03
TZOFFSETFROM:-0200
TZOFFSETTO:-0300
END:STANDARD
END:VTIMEZONE
END:VCALENDAR
