BEGIN:VCALENDAR
VERSION:2.0
PRODID:-//Plone.org//NONSGML plone.app.event//EN
X-WR-TIMEZONE:America/Maceio
BEGIN:VEVENT
SUMMARY:Abertura da nova exposição "rearrumação" na Pinacoteca Univers
 itária
DTSTART;TZID=America/Maceio:20180828T190000
DTEND;TZID=America/Maceio:20181001T173000
DTSTAMP:20260420T182150Z
UID:535bab4c10c14b538f223d3bc6c49b1c@principal.ufal.br
CONTACT:https://ufal.br/ufal/noticias/2018/8/saindo-do-ambiente-intimo-e-d
 e-conforto-201crearrumacao201d-estreia-na-pinacoteca
CREATED:20180828T205931Z
DESCRIPTION:Com a proposta de abranger o contexto de duas diferentes expos
 ições em um mesmo espaço\, "rearrumação" chega aos salões da Pinacot
 eca Universitária na terça-feira\, dia 28 de agosto\, a partir das 19h. 
 Ramificada em ato 3: corpo aberto\, de Gilbef\, e desterro\, de Matheus Ar
 ruda\, a mostra narra a poética das vivências de ambos os artistas. \nA 
 exposição ficará em cartaz para visitação até 1º de outubro\, às 1
 7h30.
LAST-MODIFIED:20180828T205937Z
URL:https://ufal.br/ufal/extensao/cultura/2018/abertura-da-nova-exposicao-
 rearrumacao-na-pinacoteca-universitaria
END:VEVENT
BEGIN:VTIMEZONE
TZID:America/Maceio
X-LIC-LOCATION:America/Maceio
BEGIN:STANDARD
DTSTART:20020216T230000
TZNAME:-03
TZOFFSETFROM:-0200
TZOFFSETTO:-0300
END:STANDARD
END:VTIMEZONE
END:VCALENDAR
