BEGIN:VCALENDAR
VERSION:2.0
PRODID:-//Plone.org//NONSGML plone.app.event//EN
X-WR-TIMEZONE:America/Maceio
BEGIN:VEVENT
SUMMARY:2º Encontro de Piano da Escola Técnica de Artes
DTSTART;TZID=America/Maceio:20180717T090000
DTEND;TZID=America/Maceio:20180720T200000
DTSTAMP:20260420T074444Z
UID:38fd24c504564fdb9efda74d31e8dc61@principal.ufal.br
CONTACT:Professor Mario Marochi\, 3214-1614 (ETA)
CREATED:20180704T135503Z
DESCRIPTION:Vem aí a segunda edição do Encontro de Piano da Escola Téc
 nica de Artes (ETA) da Ufal. O evento acontece no Espaço Cultural e nos t
 eatros Jofre Soares e Deodoro\, de 17 a 20 de julho\, com programação be
 m diversificada: palestras\, master classes e recitais. As inscrições on
 line vão até 9 de julho e é tudo gratuito.
LAST-MODIFIED:20180704T135740Z
LOCATION:Espaço Cultural\, Teatro Jofre Soares e Teatro Deodoro
URL:https://ufal.br/ufal/extensao/cultura/2018/2o-encontro-de-piano-da-esc
 ola-tecnica-de-artes
END:VEVENT
BEGIN:VTIMEZONE
TZID:America/Maceio
X-LIC-LOCATION:America/Maceio
BEGIN:STANDARD
DTSTART:20020216T230000
TZNAME:-03
TZOFFSETFROM:-0200
TZOFFSETTO:-0300
END:STANDARD
END:VTIMEZONE
END:VCALENDAR
