BEGIN:VCALENDAR
VERSION:2.0
PRODID:-//Plone.org//NONSGML plone.app.event//EN
X-WR-TIMEZONE:America/Maceio
BEGIN:VEVENT
SUMMARY:21ª edição do Fim de Semana no Museu
DTSTART;TZID=America/Maceio:20180915T090000
DTEND;TZID=America/Maceio:20180919T170000
DTSTAMP:20260420T041330Z
UID:c989b7d03d9e47c6a5e5209e794e3ac0@principal.ufal.br
CONTACT:https://ufal.br/ufal/noticias/2018/9/primavera-invade-a-21a-edicao
 -do-fim-de-semana-no-museu
CREATED:20180912T193747Z
DESCRIPTION:Setembro é o mês em que inicia a primavera\, a estação das
  flores. Por isso\, a 21ª edição do Fim de Semana no Museu trará ativi
 dades voltadas à conservação do meio ambiente e também do setor de bot
 ânica. O evento será neste sábado (15) e domingo (16)\, das 9h às 17h\
 , na sede do Museu de História Natural\, na Praça da Faculdade.
LAST-MODIFIED:20180912T193754Z
URL:https://ufal.br/ufal/extensao/cultura/2018/21a-edicao-do-fim-de-semana
 -no-museu
END:VEVENT
BEGIN:VTIMEZONE
TZID:America/Maceio
X-LIC-LOCATION:America/Maceio
BEGIN:STANDARD
DTSTART:20020216T230000
TZNAME:-03
TZOFFSETFROM:-0200
TZOFFSETTO:-0300
END:STANDARD
END:VTIMEZONE
END:VCALENDAR
