BEGIN:VCALENDAR
VERSION:2.0
PRODID:-//Plone.org//NONSGML plone.app.event//EN
X-WR-TIMEZONE:America/Maceio
BEGIN:VEVENT
SUMMARY:1º Feviufal - Festival de Violão da Ufal
DTSTART;TZID=America/Maceio:20180815T140000
DTEND;TZID=America/Maceio:20180817T200000
DTSTAMP:20260421T020826Z
UID:332c996d541441f7af38f89352b50887@principal.ufal.br
CREATED:20180808T222642Z
DESCRIPTION:De 15 a 17 de agosto acontece\, em Maceió\, o 1º Feviufal - 
 Festival de Violão da Universidade Federal de Alagoas. O evento é uma re
 alização da Ufal\, em parceria com o Sesc-Alagoas\, e contará com a par
 ticipação de um dos mais promissores violonistas de sua geração\, o it
 aliano Davide Tomasi. \nAs atividades do Feviufal vão acontecer no Espaç
 o Cultural Universitário\, na Praça Visconde de Sinimbu. O evento é abe
 rto ao público\, mas quem quiser receber certificado terá de se inscreve
 r no sistema acadêmico da Ufal (Sigaa). Apenas o recital de Tomasi será 
 no Teatro Jofre Soares\, no Sesc Centro\, e será cobrado ingresso de R$ 2
 0\,00 (inteira) e R$ 10\,00 (meia).
LAST-MODIFIED:20180808T222706Z
LOCATION:Espaço Cultural da Ufal e Teatro Jofre Soares\, no Sesc Centro
URL:https://ufal.br/ufal/extensao/cultura/2018/1o-feviufal-festival-de-vio
 lao-da-ufal
END:VEVENT
BEGIN:VTIMEZONE
TZID:America/Maceio
X-LIC-LOCATION:America/Maceio
BEGIN:STANDARD
DTSTART:20020216T230000
TZNAME:-03
TZOFFSETFROM:-0200
TZOFFSETTO:-0300
END:STANDARD
END:VTIMEZONE
END:VCALENDAR
