BEGIN:VCALENDAR
VERSION:2.0
PRODID:-//Plone.org//NONSGML plone.app.event//EN
X-WR-TIMEZONE:America/Maceio
BEGIN:VEVENT
SUMMARY:Simpósio Internacional em Tecnologias Emergentes e Habitats de In
 ovação
DTSTART;VALUE=DATE:20180613
DTEND;VALUE=DATE:20180614
DTSTAMP:20260420T013902Z
UID:f79b2723f348457582c1166c8656d374@principal.ufal.br
RRULE:FREQ=DAILY;UNTIL=20180615T000000
CONTACT:https://doity.com.br/geticinternacional
CREATED:20180604T131730Z
LAST-MODIFIED:20180604T132006Z
LOCATION:Ufal - Campus A.C. Simões
URL:https://ufal.br/ufal/comunicacao/eventos/simposio-internacional-em-tec
 nologias-emergentes-e-habitats-de-inovac
END:VEVENT
END:VCALENDAR
