BEGIN:VCALENDAR
VERSION:2.0
PRODID:-//Plone.org//NONSGML plone.app.event//EN
X-WR-TIMEZONE:America/Maceio
BEGIN:VEVENT
SUMMARY:Palestra 'Una escuta criativa en tiempos de crise'
DTSTART;TZID=America/Maceio:20180628T183000
DTEND;TZID=America/Maceio:20180628T210000
DTSTAMP:20260420T044106Z
UID:9e290bc0639b4432a82268b6a0a702e8@principal.ufal.br
CREATED:20180627T145029Z
LAST-MODIFIED:20180627T145150Z
LOCATION:Auditório do Cedu
URL:https://ufal.br/ufal/comunicacao/eventos/palestra-una-escuta-criativa-
 en-tiempos-de-crise
END:VEVENT
BEGIN:VTIMEZONE
TZID:America/Maceio
X-LIC-LOCATION:America/Maceio
BEGIN:STANDARD
DTSTART:20020216T230000
TZNAME:-03
TZOFFSETFROM:-0200
TZOFFSETTO:-0300
END:STANDARD
END:VTIMEZONE
END:VCALENDAR
