BEGIN:VCALENDAR
VERSION:2.0
PRODID:-//Plone.org//NONSGML plone.app.event//EN
X-WR-TIMEZONE:America/Maceio
BEGIN:VEVENT
SUMMARY:Palestra "Foucault e o investimento à sujeição"
DTSTART;TZID=America/Maceio:20180703T190000
DTEND;TZID=America/Maceio:20180703T220000
DTSTAMP:20260420T024848Z
UID:f8bd33db217748db961c9cbd6ffd8360@principal.ufal.br
CREATED:20180621T132634Z
DESCRIPTION:Haverá palestra e lançamento de livro
LAST-MODIFIED:20180621T134126Z
LOCATION:Auditório do Ichca
URL:https://ufal.br/ufal/comunicacao/eventos/palestra-foucault-e-o-investi
 mento-a-sujeicao
END:VEVENT
BEGIN:VTIMEZONE
TZID:America/Maceio
X-LIC-LOCATION:America/Maceio
BEGIN:STANDARD
DTSTART:20020216T230000
TZNAME:-03
TZOFFSETFROM:-0200
TZOFFSETTO:-0300
END:STANDARD
END:VTIMEZONE
END:VCALENDAR
