BEGIN:VCALENDAR
VERSION:2.0
PRODID:-//Plone.org//NONSGML plone.app.event//EN
X-WR-TIMEZONE:America/Maceio
BEGIN:VEVENT
SUMMARY:Mesa-redonda "Violência\, crime e periferia na Alagoas contempor
 ânea"
DTSTART;TZID=America/Maceio:20180808T190000
DTEND;TZID=America/Maceio:20180808T213000
DTSTAMP:20260420T041153Z
UID:65dcaa56e1934081b99afe5e0650c6f7@principal.ufal.br
ATTENDEE;CN="Fernando Rodrigues (PPGS/Ufal)";ROLE=REQ-PARTICIPANT:Fernando
  Rodrigues (PPGS/Ufal)
ATTENDEE;CN="Geraldo Majella (historiador)";ROLE=REQ-PARTICIPANT:Geraldo M
 ajella (historiador)
CREATED:20180806T144930Z
LAST-MODIFIED:20180806T144944Z
LOCATION:Auditório do ICS
URL:https://ufal.br/ufal/comunicacao/eventos/mesa-redonda-violencia-crime-
 e-periferia-na-alagoas-contemporanea
END:VEVENT
BEGIN:VTIMEZONE
TZID:America/Maceio
X-LIC-LOCATION:America/Maceio
BEGIN:STANDARD
DTSTART:20020216T230000
TZNAME:-03
TZOFFSETFROM:-0200
TZOFFSETTO:-0300
END:STANDARD
END:VTIMEZONE
END:VCALENDAR
