BEGIN:VCALENDAR
VERSION:2.0
PRODID:-//Plone.org//NONSGML plone.app.event//EN
X-WR-TIMEZONE:America/Maceio
BEGIN:VEVENT
SUMMARY:Administração de Sistemas GNU/Linux - Turma I - 20 h/a
DTSTART;TZID=America/Maceio:20080723T110000
DTEND;TZID=America/Maceio:20080726T200000
DTSTAMP:20260419T090836Z
UID:2c2615fd13894445853c97b7408895cd@principal.ufal.br
CONTACT:Equipe de Capacitação\, (82) 3214-1046/1034\, progep@reitoria.uf
 al.br
CREATED:20141008T140706Z
DESCRIPTION:Encerrado
LAST-MODIFIED:20211026T190925Z
URL:https://ufal.br/servidor/capacitacao/plano-anual-de-capacitacao/2008/c
 opy24_of_elaboracao-de-projetos-turma-i
END:VEVENT
BEGIN:VTIMEZONE
TZID:America/Maceio
X-LIC-LOCATION:America/Maceio
BEGIN:STANDARD
DTSTART:20020216T230000
TZNAME:-03
TZOFFSETFROM:-0200
TZOFFSETTO:-0300
END:STANDARD
END:VTIMEZONE
END:VCALENDAR
