BEGIN:VCALENDAR
VERSION:2.0
PRODID:-//Plone.org//NONSGML plone.app.event//EN
X-WR-TIMEZONE:America/Maceio
BEGIN:VEVENT
SUMMARY:Curso Gamificando a Aula Universitária: Engajamento e Aprendizage
 m
DTSTART;TZID=America/Maceio:20220905T140000
DTEND;TZID=America/Maceio:20220921T160000
DTSTAMP:20260420T214720Z
UID:fd4e3dac9e6747f4bb0ef9663d0100e4@principal.ufal.br
CREATED:20220830T142044Z
LAST-MODIFIED:20230412T195018Z
URL:https://ufal.br/servidor/capacitacao/formacao-docente/eventos/anos-ant
 eriores/2022/ii-semestre/inscricoes-encerradas/curso-gamificando-a-aula-un
 iversitaria-engajamento-e-aprendizagem
END:VEVENT
BEGIN:VTIMEZONE
TZID:America/Maceio
X-LIC-LOCATION:America/Maceio
BEGIN:STANDARD
DTSTART:20020216T230000
TZNAME:-03
TZOFFSETFROM:-0200
TZOFFSETTO:-0300
END:STANDARD
END:VTIMEZONE
END:VCALENDAR
