BEGIN:VCALENDAR
VERSION:2.0
PRODID:-//Plone.org//NONSGML plone.app.event//EN
X-WR-TIMEZONE:America/Maceio
BEGIN:VEVENT
SUMMARY:Curso Docência Universitária: Do Planejamento à Avaliação
DTSTART;TZID=America/Maceio:20220816T190000
DTEND;TZID=America/Maceio:20220909T210000
DTSTAMP:20260420T184426Z
UID:0d01fff000004976abdca96e083eb92b@principal.ufal.br
CREATED:20220720T150357Z
LAST-MODIFIED:20230412T195018Z
URL:https://ufal.br/servidor/capacitacao/formacao-docente/eventos/anos-ant
 eriores/2022/ii-semestre/inscricoes-encerradas/curso-docencia-universitari
 a-do-planejamento-a-avaliacao
END:VEVENT
BEGIN:VTIMEZONE
TZID:America/Maceio
X-LIC-LOCATION:America/Maceio
BEGIN:STANDARD
DTSTART:20020216T230000
TZNAME:-03
TZOFFSETFROM:-0200
TZOFFSETTO:-0300
END:STANDARD
END:VTIMEZONE
END:VCALENDAR
