BEGIN:VCALENDAR
VERSION:2.0
PRODID:-//Plone.org//NONSGML plone.app.event//EN
X-WR-TIMEZONE:America/Maceio
BEGIN:VEVENT
SUMMARY:Curso Acessibilidade e Tecnologias Assistivas na Sala de Aula: Sab
 eres Necessários à Prática Docente
DTSTART;TZID=America/Maceio:20220920T140000
DTEND;TZID=America/Maceio:20221011T170000
DTSTAMP:20260420T173018Z
UID:8ce160400ee846cab8922ad42f91f14e@principal.ufal.br
CREATED:20220902T162155Z
LAST-MODIFIED:20230412T195019Z
URL:https://ufal.br/servidor/capacitacao/formacao-docente/eventos/anos-ant
 eriores/2022/ii-semestre/inscricoes-encerradas/curso-acessibilidade-e-tecn
 ologias-assistivas-na-sala-de-aula-saberes-necessarios-a-pratica-docente
END:VEVENT
BEGIN:VTIMEZONE
TZID:America/Maceio
X-LIC-LOCATION:America/Maceio
BEGIN:STANDARD
DTSTART:20020216T230000
TZNAME:-03
TZOFFSETFROM:-0200
TZOFFSETTO:-0300
END:STANDARD
END:VTIMEZONE
END:VCALENDAR
