BEGIN:VCALENDAR
VERSION:2.0
PRODID:-//Plone.org//NONSGML plone.app.event//EN
X-WR-TIMEZONE:America/Maceio
BEGIN:VEVENT
SUMMARY:Oficina de Microsoft Teams e  Office 365| TURMA 3
DTSTART;TZID=America/Maceio:20220121T090000
DTEND;TZID=America/Maceio:20220203T110000
DTSTAMP:20260420T192610Z
UID:d456f344af48484b962d8e9f87bde04d@principal.ufal.br
CREATED:20220118T151012Z
LAST-MODIFIED:20230412T195018Z
URL:https://ufal.br/servidor/capacitacao/formacao-docente/eventos/anos-ant
 eriores/2022/i-semestre/inscricoes-encerradas/oficina-de-microsoft-teams-e
 -office-365-turma-3
END:VEVENT
BEGIN:VTIMEZONE
TZID:America/Maceio
X-LIC-LOCATION:America/Maceio
BEGIN:STANDARD
DTSTART:20020216T230000
TZNAME:-03
TZOFFSETFROM:-0200
TZOFFSETTO:-0300
END:STANDARD
END:VTIMEZONE
END:VCALENDAR
