BEGIN:VCALENDAR
VERSION:2.0
PRODID:-//Plone.org//NONSGML plone.app.event//EN
X-WR-TIMEZONE:America/Maceio
BEGIN:VEVENT
SUMMARY:Oficina de Microsoft Teams e  Office 365| TURMA 2
DTSTART;TZID=America/Maceio:20220120T183000
DTEND;TZID=America/Maceio:20220207T203000
DTSTAMP:20260420T233606Z
UID:30b98d39ec6c4fe884734e830e7cd79b@principal.ufal.br
CREATED:20220118T142446Z
LAST-MODIFIED:20230412T195018Z
URL:https://ufal.br/servidor/capacitacao/formacao-docente/eventos/anos-ant
 eriores/2022/i-semestre/inscricoes-encerradas/oficina-de-microsoft-teams-e
 -office-365-turma-2
END:VEVENT
BEGIN:VTIMEZONE
TZID:America/Maceio
X-LIC-LOCATION:America/Maceio
BEGIN:STANDARD
DTSTART:20020216T230000
TZNAME:-03
TZOFFSETFROM:-0200
TZOFFSETTO:-0300
END:STANDARD
END:VTIMEZONE
END:VCALENDAR
