BEGIN:VCALENDAR
VERSION:2.0
PRODID:-//Plone.org//NONSGML plone.app.event//EN
X-WR-TIMEZONE:America/Maceio
BEGIN:VEVENT
SUMMARY:Oficina de Microsoft Teams e  Office 365| TURMA 1
DTSTART;TZID=America/Maceio:20220120T143000
DTEND;TZID=America/Maceio:20220207T163000
DTSTAMP:20260420T192609Z
UID:eeb6c14354db4ae6ba580c99452a2f72@principal.ufal.br
CREATED:20220118T131509Z
LAST-MODIFIED:20230412T195018Z
URL:https://ufal.br/servidor/capacitacao/formacao-docente/eventos/anos-ant
 eriores/2022/i-semestre/inscricoes-encerradas/oficina-de-microsoft-teams-e
 -office-365-turma-1
END:VEVENT
BEGIN:VTIMEZONE
TZID:America/Maceio
X-LIC-LOCATION:America/Maceio
BEGIN:STANDARD
DTSTART:20020216T230000
TZNAME:-03
TZOFFSETFROM:-0200
TZOFFSETTO:-0300
END:STANDARD
END:VTIMEZONE
END:VCALENDAR
