BEGIN:VCALENDAR
VERSION:2.0
PRODID:-//Plone.org//NONSGML plone.app.event//EN
X-WR-TIMEZONE:America/Maceio
BEGIN:VEVENT
SUMMARY:Moodle: uma interface didático-pedagógica na sala de aula on-lin
 e
DTSTART;TZID=America/Maceio:20220601T090000
DTEND;TZID=America/Maceio:20220727T120000
DTSTAMP:20260420T175454Z
UID:64eed91be78648d49cea29cf490d1fc6@principal.ufal.br
CREATED:20220520T145900Z
LAST-MODIFIED:20230412T195018Z
URL:https://ufal.br/servidor/capacitacao/formacao-docente/eventos/anos-ant
 eriores/2022/i-semestre/inscricoes-encerradas/moodle-uma-interface-didatic
 o-pedagogica-na-sala-de-aula-on-line
END:VEVENT
BEGIN:VTIMEZONE
TZID:America/Maceio
X-LIC-LOCATION:America/Maceio
BEGIN:STANDARD
DTSTART:20020216T230000
TZNAME:-03
TZOFFSETFROM:-0200
TZOFFSETTO:-0300
END:STANDARD
END:VTIMEZONE
END:VCALENDAR
