BEGIN:VCALENDAR
VERSION:2.0
PRODID:-//Plone.org//NONSGML plone.app.event//EN
X-WR-TIMEZONE:America/Maceio
BEGIN:VEVENT
SUMMARY:Curso Prevenção ao Racismo Institucional: Práticas Antirracista
 s na Universidade
DTSTART;TZID=America/Maceio:20220621T140000
DTEND;TZID=America/Maceio:20220712T180000
DTSTAMP:20260420T211615Z
UID:d80953a95ba24b259bb48f0cf3dafaca@principal.ufal.br
CREATED:20220615T154716Z
LAST-MODIFIED:20230412T195018Z
URL:https://ufal.br/servidor/capacitacao/formacao-docente/eventos/anos-ant
 eriores/2022/i-semestre/inscricoes-encerradas/curso-prevencao-ao-racismo-i
 nstitucional-praticas-antirracistas-na-universidade
END:VEVENT
BEGIN:VTIMEZONE
TZID:America/Maceio
X-LIC-LOCATION:America/Maceio
BEGIN:STANDARD
DTSTART:20020216T230000
TZNAME:-03
TZOFFSETFROM:-0200
TZOFFSETTO:-0300
END:STANDARD
END:VTIMEZONE
END:VCALENDAR
