BEGIN:VCALENDAR
VERSION:2.0
PRODID:-//Plone.org//NONSGML plone.app.event//EN
X-WR-TIMEZONE:America/Maceio
BEGIN:VEVENT
SUMMARY:Oficina de Microsoft Teams T3
DTSTART;TZID=America/Maceio:20211029T143000
DTEND;TZID=America/Maceio:20211105T163000
DTSTAMP:20260420T213506Z
UID:95e821b586e2475db1eb379dc6f86dbd@principal.ufal.br
CREATED:20211021T162544Z
LAST-MODIFIED:20230412T191654Z
URL:https://ufal.br/servidor/capacitacao/formacao-docente/eventos/anos-ant
 eriores/2021/ii-semestre/inscricoes-encerradas/oficina-de-microsoft-teams-
 turma-3
END:VEVENT
BEGIN:VTIMEZONE
TZID:America/Maceio
X-LIC-LOCATION:America/Maceio
BEGIN:STANDARD
DTSTART:20020216T230000
TZNAME:-03
TZOFFSETFROM:-0200
TZOFFSETTO:-0300
END:STANDARD
END:VTIMEZONE
END:VCALENDAR
