BEGIN:VCALENDAR
VERSION:2.0
PRODID:-//Plone.org//NONSGML plone.app.event//EN
X-WR-TIMEZONE:America/Maceio
BEGIN:VEVENT
SUMMARY:Curso Tecnologias Digitais e Metodologias Ativas (TDMA)
DTSTART;TZID=America/Maceio:20210930T120000
DTEND;TZID=America/Maceio:20211126T130000
DTSTAMP:20260421T011018Z
UID:9e82eff3e2ed46c895f2444fe31d962e@principal.ufal.br
CREATED:20210920T154317Z
LAST-MODIFIED:20230412T191653Z
URL:https://ufal.br/servidor/capacitacao/formacao-docente/eventos/anos-ant
 eriores/2021/ii-semestre/inscricoes-encerradas/curso-tecnologias-digitais-
 e-metodologias-ativas-tdma
END:VEVENT
BEGIN:VTIMEZONE
TZID:America/Maceio
X-LIC-LOCATION:America/Maceio
BEGIN:STANDARD
DTSTART:20020216T230000
TZNAME:-03
TZOFFSETFROM:-0200
TZOFFSETTO:-0300
END:STANDARD
END:VTIMEZONE
END:VCALENDAR
