BEGIN:VCALENDAR
VERSION:2.0
PRODID:-//Plone.org//NONSGML plone.app.event//EN
X-WR-TIMEZONE:America/Maceio
BEGIN:VEVENT
SUMMARY:Curso sobre Implantação de até 40% de EAD nos PPCS Presenciais
DTSTART;TZID=America/Maceio:20210826T190000
DTEND;TZID=America/Maceio:20210917T210000
DTSTAMP:20260421T040504Z
UID:3d2b367e0a7f40beaab011d2d51c3f6b@principal.ufal.br
CREATED:20210802T170018Z
LAST-MODIFIED:20230412T191652Z
URL:https://ufal.br/servidor/capacitacao/formacao-docente/eventos/anos-ant
 eriores/2021/ii-semestre/inscricoes-encerradas/curso-sobre-implantacao-de-
 ate-40-de-ead-nos-ppcs-presenciais
END:VEVENT
BEGIN:VTIMEZONE
TZID:America/Maceio
X-LIC-LOCATION:America/Maceio
BEGIN:STANDARD
DTSTART:20020216T230000
TZNAME:-03
TZOFFSETFROM:-0200
TZOFFSETTO:-0300
END:STANDARD
END:VTIMEZONE
END:VCALENDAR
