BEGIN:VCALENDAR
VERSION:2.0
PRODID:-//Plone.org//NONSGML plone.app.event//EN
X-WR-TIMEZONE:America/Maceio
BEGIN:VEVENT
SUMMARY:Curso Moodle Avançado
DTSTART;TZID=America/Maceio:20210810T090000
DTEND;TZID=America/Maceio:20210831T110000
DTSTAMP:20260420T205216Z
UID:3a1ce142f49141a99a3ab371ac7af6c7@principal.ufal.br
CREATED:20210716T152412Z
LAST-MODIFIED:20230412T191652Z
URL:https://ufal.br/servidor/capacitacao/formacao-docente/eventos/anos-ant
 eriores/2021/ii-semestre/inscricoes-encerradas/curso-moodle-avancado
END:VEVENT
BEGIN:VTIMEZONE
TZID:America/Maceio
X-LIC-LOCATION:America/Maceio
BEGIN:STANDARD
DTSTART:20020216T230000
TZNAME:-03
TZOFFSETFROM:-0200
TZOFFSETTO:-0300
END:STANDARD
END:VTIMEZONE
END:VCALENDAR
