BEGIN:VCALENDAR
VERSION:2.0
PRODID:-//Plone.org//NONSGML plone.app.event//EN
X-WR-TIMEZONE:America/Maceio
BEGIN:VEVENT
SUMMARY:Curso Docência Universitária: do Presencial ao Virtual
DTSTART;TZID=America/Maceio:20210915T193000
DTEND;TZID=America/Maceio:20211003T213000
DTSTAMP:20260420T184426Z
UID:35ee2b4ee60944a3b6ca41639d5344f6@principal.ufal.br
CREATED:20210819T140510Z
LAST-MODIFIED:20230412T191653Z
URL:https://ufal.br/servidor/capacitacao/formacao-docente/eventos/anos-ant
 eriores/2021/ii-semestre/inscricoes-encerradas/curso-docencia-universitari
 a-do-presencial-ao-virtual
END:VEVENT
BEGIN:VTIMEZONE
TZID:America/Maceio
X-LIC-LOCATION:America/Maceio
BEGIN:STANDARD
DTSTART:20020216T230000
TZNAME:-03
TZOFFSETFROM:-0200
TZOFFSETTO:-0300
END:STANDARD
END:VTIMEZONE
END:VCALENDAR
