BEGIN:VCALENDAR
VERSION:2.0
PRODID:-//Plone.org//NONSGML plone.app.event//EN
X-WR-TIMEZONE:America/Maceio
BEGIN:VEVENT
SUMMARY:Curso de Produção de Videoaula: “Da concepção à transmissã
 o de saberes na web”
DTSTART;TZID=America/Maceio:20210914T150000
DTEND;TZID=America/Maceio:20211002T170000
DTSTAMP:20260420T161412Z
UID:b203a5ba1ac241f888c1bd250993ab3a@principal.ufal.br
CREATED:20210910T141816Z
LAST-MODIFIED:20230412T191653Z
URL:https://ufal.br/servidor/capacitacao/formacao-docente/eventos/anos-ant
 eriores/2021/ii-semestre/inscricoes-encerradas/curso-de-producao-de-videoa
 ula-201cda-concepcao-a-transmissao-de-saberes-na-web201d
END:VEVENT
BEGIN:VTIMEZONE
TZID:America/Maceio
X-LIC-LOCATION:America/Maceio
BEGIN:STANDARD
DTSTART:20020216T230000
TZNAME:-03
TZOFFSETFROM:-0200
TZOFFSETTO:-0300
END:STANDARD
END:VTIMEZONE
END:VCALENDAR
