BEGIN:VCALENDAR
VERSION:2.0
PRODID:-//Plone.org//NONSGML plone.app.event//EN
X-WR-TIMEZONE:America/Maceio
BEGIN:VEVENT
SUMMARY:Curso de Libras (Nível Básico)
DTSTART;TZID=America/Maceio:20210915T150000
DTEND;TZID=America/Maceio:20211002T170000
DTSTAMP:20260421T013100Z
UID:aea07ba525f941bb8024fe5f799b955b@principal.ufal.br
CREATED:20210910T103220Z
LAST-MODIFIED:20230412T191653Z
URL:https://ufal.br/servidor/capacitacao/formacao-docente/eventos/anos-ant
 eriores/2021/ii-semestre/inscricoes-encerradas/curso-de-libras-nivel-basic
 o
END:VEVENT
BEGIN:VTIMEZONE
TZID:America/Maceio
X-LIC-LOCATION:America/Maceio
BEGIN:STANDARD
DTSTART:20020216T230000
TZNAME:-03
TZOFFSETFROM:-0200
TZOFFSETTO:-0300
END:STANDARD
END:VTIMEZONE
END:VCALENDAR
