BEGIN:VCALENDAR
VERSION:2.0
PRODID:-//Plone.org//NONSGML plone.app.event//EN
X-WR-TIMEZONE:America/Maceio
BEGIN:VEVENT
SUMMARY:Curso de Aplicativos para Produção e Edição de Conteúdos
DTSTART;TZID=America/Maceio:20210726T140000
DTEND;TZID=America/Maceio:20210816T160000
DTSTAMP:20260420T182832Z
UID:4322746fa44745d38c059a8061667ce0@principal.ufal.br
CREATED:20210705T141537Z
LAST-MODIFIED:20230412T191652Z
URL:https://ufal.br/servidor/capacitacao/formacao-docente/eventos/anos-ant
 eriores/2021/ii-semestre/inscricoes-encerradas/curso-de-aplicativos-para-p
 roducao-e-edicao-de-conteudos
END:VEVENT
BEGIN:VTIMEZONE
TZID:America/Maceio
X-LIC-LOCATION:America/Maceio
BEGIN:STANDARD
DTSTART:20020216T230000
TZNAME:-03
TZOFFSETFROM:-0200
TZOFFSETTO:-0300
END:STANDARD
END:VTIMEZONE
END:VCALENDAR
