BEGIN:VCALENDAR
VERSION:2.0
PRODID:-//Plone.org//NONSGML plone.app.event//EN
X-WR-TIMEZONE:America/Maceio
BEGIN:VEVENT
SUMMARY:Curso Aula Híbrida: Integração entre o Presencial e o Virtual
DTSTART;TZID=America/Maceio:20210818T193000
DTEND;TZID=America/Maceio:20210908T212500
DTSTAMP:20260420T213945Z
UID:e16aa28effd340d492c5f0679781fb31@principal.ufal.br
CREATED:20210721T141412Z
LAST-MODIFIED:20230412T191653Z
URL:https://ufal.br/servidor/capacitacao/formacao-docente/eventos/anos-ant
 eriores/2021/ii-semestre/inscricoes-encerradas/curso-aula-hibrida-integrac
 ao-entre-o-presencial-e-o-virtual
END:VEVENT
BEGIN:VTIMEZONE
TZID:America/Maceio
X-LIC-LOCATION:America/Maceio
BEGIN:STANDARD
DTSTART:20020216T230000
TZNAME:-03
TZOFFSETFROM:-0200
TZOFFSETTO:-0300
END:STANDARD
END:VTIMEZONE
END:VCALENDAR
