BEGIN:VCALENDAR
VERSION:2.0
PRODID:-//Plone.org//NONSGML plone.app.event//EN
X-WR-TIMEZONE:America/Maceio
BEGIN:VEVENT
SUMMARY:Oficina Microsoft Teams
DTSTART;TZID=America/Maceio:20210607T190500
DTEND;TZID=America/Maceio:20210621T210000
DTSTAMP:20260420T162709Z
UID:1662e74d018a472ea8b7b1d2e1e29492@principal.ufal.br
CREATED:20210520T170726Z
LAST-MODIFIED:20230412T191651Z
URL:https://ufal.br/servidor/capacitacao/formacao-docente/eventos/anos-ant
 eriores/2021/i-semestre/inscricoes-encerradas/oficina-microsoft-teams
END:VEVENT
BEGIN:VTIMEZONE
TZID:America/Maceio
X-LIC-LOCATION:America/Maceio
BEGIN:STANDARD
DTSTART:20020216T230000
TZNAME:-03
TZOFFSETFROM:-0200
TZOFFSETTO:-0300
END:STANDARD
END:VTIMEZONE
END:VCALENDAR
