BEGIN:VCALENDAR
VERSION:2.0
PRODID:-//Plone.org//NONSGML plone.app.event//EN
X-WR-TIMEZONE:America/Maceio
BEGIN:VEVENT
SUMMARY:Oficina: Conferência Web RNP
DTSTART;TZID=America/Maceio:20210420T193000
DTEND;TZID=America/Maceio:20210503T213000
DTSTAMP:20260420T231939Z
UID:21b3f51cb3a9468e8f413736b49af910@principal.ufal.br
CREATED:20210329T141151Z
LAST-MODIFIED:20230412T191651Z
URL:https://ufal.br/servidor/capacitacao/formacao-docente/eventos/anos-ant
 eriores/2021/i-semestre/inscricoes-encerradas/oficina-conferencia-web-rnp
END:VEVENT
BEGIN:VTIMEZONE
TZID:America/Maceio
X-LIC-LOCATION:America/Maceio
BEGIN:STANDARD
DTSTART:20020216T230000
TZNAME:-03
TZOFFSETFROM:-0200
TZOFFSETTO:-0300
END:STANDARD
END:VTIMEZONE
END:VCALENDAR
