BEGIN:VCALENDAR
VERSION:2.0
PRODID:-//Plone.org//NONSGML plone.app.event//EN
X-WR-TIMEZONE:America/Maceio
BEGIN:VEVENT
SUMMARY:Curso Moodle Básico - Projeto Piloto
DTSTART;TZID=America/Maceio:20210503T080000
DTEND;TZID=America/Maceio:20210528T100000
DTSTAMP:20260420T211233Z
UID:d3d98757fc7e4da89e91675b17661e2c@principal.ufal.br
CREATED:20210419T135646Z
LAST-MODIFIED:20230412T191651Z
URL:https://ufal.br/servidor/capacitacao/formacao-docente/eventos/anos-ant
 eriores/2021/i-semestre/inscricoes-encerradas/curso-moodle-basico-projeto-
 piloto
END:VEVENT
BEGIN:VTIMEZONE
TZID:America/Maceio
X-LIC-LOCATION:America/Maceio
BEGIN:STANDARD
DTSTART:20020216T230000
TZNAME:-03
TZOFFSETFROM:-0200
TZOFFSETTO:-0300
END:STANDARD
END:VTIMEZONE
END:VCALENDAR
