BEGIN:VCALENDAR
VERSION:2.0
PRODID:-//Plone.org//NONSGML plone.app.event//EN
X-WR-TIMEZONE:America/Maceio
BEGIN:VEVENT
SUMMARY:Curso Moodle Avançado - Projeto Piloto
DTSTART;TZID=America/Maceio:20210520T100000
DTEND;TZID=America/Maceio:20210606T120000
DTSTAMP:20260421T013100Z
UID:3c28b650b1d94517b9c1bc0384f0d9de@principal.ufal.br
CREATED:20210504T142221Z
LAST-MODIFIED:20230412T191651Z
URL:https://ufal.br/servidor/capacitacao/formacao-docente/eventos/anos-ant
 eriores/2021/i-semestre/inscricoes-encerradas/curso-moodle-avancado
END:VEVENT
BEGIN:VTIMEZONE
TZID:America/Maceio
X-LIC-LOCATION:America/Maceio
BEGIN:STANDARD
DTSTART:20020216T230000
TZNAME:-03
TZOFFSETFROM:-0200
TZOFFSETTO:-0300
END:STANDARD
END:VTIMEZONE
END:VCALENDAR
