BEGIN:VCALENDAR
VERSION:2.0
PRODID:-//Plone.org//NONSGML plone.app.event//EN
X-WR-TIMEZONE:America/Maceio
BEGIN:VEVENT
SUMMARY:Curso Inclusão Social e Tecnologias Assistivas
DTSTART;TZID=America/Maceio:20210427T143000
DTEND;TZID=America/Maceio:20210525T173000
DTSTAMP:20260420T173003Z
UID:919ff15592454b099ebdce5ae5e32a98@principal.ufal.br
CREATED:20210331T152006Z
LAST-MODIFIED:20230412T191651Z
URL:https://ufal.br/servidor/capacitacao/formacao-docente/eventos/anos-ant
 eriores/2021/i-semestre/inscricoes-encerradas/curso-inclusao-social-e-tecn
 ologias-assistivas
END:VEVENT
BEGIN:VTIMEZONE
TZID:America/Maceio
X-LIC-LOCATION:America/Maceio
BEGIN:STANDARD
DTSTART:20020216T230000
TZNAME:-03
TZOFFSETFROM:-0200
TZOFFSETTO:-0300
END:STANDARD
END:VTIMEZONE
END:VCALENDAR
