BEGIN:VCALENDAR
VERSION:2.0
PRODID:-//Plone.org//NONSGML plone.app.event//EN
X-WR-TIMEZONE:America/Maceio
BEGIN:VEVENT
SUMMARY:Cronograma de Cursos PROFORD
DTSTART;VALUE=DATE:20210401
DTEND;VALUE=DATE:20210801
DTSTAMP:20260420T164918Z
UID:6ace481e86a647dcb47523b0f1c8cc68@principal.ufal.br
CREATED:20210531T144512Z
LAST-MODIFIED:20230412T191648Z
URL:https://ufal.br/servidor/capacitacao/formacao-docente/eventos/anos-ant
 eriores/2021/cronograma-de-cursos-proford
END:VEVENT
END:VCALENDAR
