BEGIN:VCALENDAR
VERSION:2.0
PRODID:-//Plone.org//NONSGML plone.app.event//EN
X-WR-TIMEZONE:America/Maceio
BEGIN:VEVENT
SUMMARY:Oficina de STREAMYARD - Turma I
DTSTART;TZID=America/Maceio:20201013T100000
DTEND;TZID=America/Maceio:20201013T120000
DTSTAMP:20260421T064211Z
UID:4064f0f147b544949e9bde34bf1613be@principal.ufal.br
CREATED:20201007T142135Z
LAST-MODIFIED:20230412T191626Z
URL:https://ufal.br/servidor/capacitacao/formacao-docente/eventos/anos-ant
 eriores/2020/ii-semestre/inscricoes-encerradas/oficina-de-streamyard-turma
 -i
END:VEVENT
BEGIN:VTIMEZONE
TZID:America/Maceio
X-LIC-LOCATION:America/Maceio
BEGIN:STANDARD
DTSTART:20020216T230000
TZNAME:-03
TZOFFSETFROM:-0200
TZOFFSETTO:-0300
END:STANDARD
END:VTIMEZONE
END:VCALENDAR
