BEGIN:VCALENDAR
VERSION:2.0
PRODID:-//Plone.org//NONSGML plone.app.event//EN
X-WR-TIMEZONE:America/Maceio
BEGIN:VEVENT
SUMMARY:Oficina de Produção de VideoAula - Turma I
DTSTART;TZID=America/Maceio:20201005T140000
DTEND;TZID=America/Maceio:20201030T160000
DTSTAMP:20260421T061048Z
UID:258f81713b60480b9d1bcc863b81dcc2@principal.ufal.br
CREATED:20200929T120621Z
LAST-MODIFIED:20230412T191625Z
URL:https://ufal.br/servidor/capacitacao/formacao-docente/eventos/anos-ant
 eriores/2020/ii-semestre/inscricoes-encerradas/oficina-de-producao-de-vide
 oaula-turma-i
END:VEVENT
BEGIN:VTIMEZONE
TZID:America/Maceio
X-LIC-LOCATION:America/Maceio
BEGIN:STANDARD
DTSTART:20020216T230000
TZNAME:-03
TZOFFSETFROM:-0200
TZOFFSETTO:-0300
END:STANDARD
END:VTIMEZONE
END:VCALENDAR
