BEGIN:VCALENDAR
VERSION:2.0
PRODID:-//Plone.org//NONSGML plone.app.event//EN
X-WR-TIMEZONE:America/Maceio
BEGIN:VEVENT
SUMMARY:Oficina de Produção de Material Didático Digital - Turma 1
DTSTART;TZID=America/Maceio:20201013T140000
DTEND;TZID=America/Maceio:20201027T180000
DTSTAMP:20260421T064210Z
UID:0812ad642dcf44fca40405b3145f11c1@principal.ufal.br
CREATED:20201007T154715Z
LAST-MODIFIED:20230412T191626Z
URL:https://ufal.br/servidor/capacitacao/formacao-docente/eventos/anos-ant
 eriores/2020/ii-semestre/inscricoes-encerradas/oficina-de-producao-de-mate
 rial-didatico-digital-turma-1
END:VEVENT
BEGIN:VTIMEZONE
TZID:America/Maceio
X-LIC-LOCATION:America/Maceio
BEGIN:STANDARD
DTSTART:20020216T230000
TZNAME:-03
TZOFFSETFROM:-0200
TZOFFSETTO:-0300
END:STANDARD
END:VTIMEZONE
END:VCALENDAR
