BEGIN:VCALENDAR
VERSION:2.0
PRODID:-//Plone.org//NONSGML plone.app.event//EN
X-WR-TIMEZONE:America/Maceio
BEGIN:VEVENT
SUMMARY:Oficina de Google Meet - Turma 3
DTSTART;TZID=America/Maceio:20201013T140000
DTEND;TZID=America/Maceio:20201013T160000
DTSTAMP:20260421T122115Z
UID:d00d8c763ea14949902f5e34126c5c45@principal.ufal.br
CREATED:20201007T133609Z
LAST-MODIFIED:20230412T191626Z
URL:https://ufal.br/servidor/capacitacao/formacao-docente/eventos/anos-ant
 eriores/2020/ii-semestre/inscricoes-encerradas/oficina-de-google-meet-turm
 a-3
END:VEVENT
BEGIN:VTIMEZONE
TZID:America/Maceio
X-LIC-LOCATION:America/Maceio
BEGIN:STANDARD
DTSTART:20020216T230000
TZNAME:-03
TZOFFSETFROM:-0200
TZOFFSETTO:-0300
END:STANDARD
END:VTIMEZONE
END:VCALENDAR
