BEGIN:VCALENDAR
VERSION:2.0
PRODID:-//Plone.org//NONSGML plone.app.event//EN
X-WR-TIMEZONE:America/Maceio
BEGIN:VEVENT
SUMMARY:Oficina de Avaliação Digital de Aprendizagem: Procedimentos e In
 strumentos Online - Turmas I e II
DTSTART;TZID=America/Maceio:20201009T140000
DTEND;TZID=America/Maceio:20201027T160000
DTSTAMP:20260421T062117Z
UID:54199ef9d7794bdfb8f8767b64ec4957@principal.ufal.br
CREATED:20201006T140941Z
LAST-MODIFIED:20230412T191626Z
URL:https://ufal.br/servidor/capacitacao/formacao-docente/eventos/anos-ant
 eriores/2020/ii-semestre/inscricoes-encerradas/oficina-de-avaliacao-digita
 l-de-aprendizagem-procedimentos-e-instrumentos-online-turma-i
END:VEVENT
BEGIN:VTIMEZONE
TZID:America/Maceio
X-LIC-LOCATION:America/Maceio
BEGIN:STANDARD
DTSTART:20020216T230000
TZNAME:-03
TZOFFSETFROM:-0200
TZOFFSETTO:-0300
END:STANDARD
END:VTIMEZONE
END:VCALENDAR
